BEGIN:VCALENDAR
VERSION:2.0
PRODID:-//wp-events-plugin.com//7.2.3.1//EN
TZID:Europe/Amsterdam
X-WR-TIMEZONE:Europe/Amsterdam
BEGIN:VEVENT
UID:80@xxter.com
DTSTART;TZID=Europe/Amsterdam:20201110T100000
DTEND;TZID=Europe/Amsterdam:20201110T104500
DTSTAMP:20201016T100344Z
URL:https://www.xxter.com/cursussen/rtc-thermostat-november/
SUMMARY:RTC thermostat
DESCRIPTION:How to set up room temperature control with xxter
END:VEVENT
BEGIN:VTIMEZONE
TZID:Europe/Amsterdam
X-LIC-LOCATION:Europe/Amsterdam
BEGIN:STANDARD
DTSTART:20201025T020000
TZOFFSETFROM:+0200
TZOFFSETTO:+0100
TZNAME:CET
END:STANDARD
END:VTIMEZONE
END:VCALENDAR