BEGIN:VCALENDAR
VERSION:2.0
PRODID:-//wp-events-plugin.com//7.2.3.1//EN
TZID:Europe/Amsterdam
X-WR-TIMEZONE:Europe/Amsterdam
BEGIN:VEVENT
UID:190@xxter.com
DTSTART;TZID=Europe/Amsterdam:20260526T100000
DTEND;TZID=Europe/Amsterdam:20260526T110000
DTSTAMP:20260422T105017Z
URL:https://www.xxter.com/cursussen/smart-energy-manager-cursus-26-may-202
 6/
SUMMARY:Smart Energy Manager Webinar 26 May 2026
DESCRIPTION:Schrijf je nu in* om meer te weten te komen over xxter's revolu
 tionaire Smart Energy Manager.\n\nWe zullen de volgende onderwerpen bespre
 ken:\n- Wat is de Smart Energy Manager?\n- Hoe werkt het?\n- Hoe stel je h
 et in\n\n*Basiskennis van xxter en KNX wordt aanbevolen.
END:VEVENT
BEGIN:VTIMEZONE
TZID:Europe/Amsterdam
X-LIC-LOCATION:Europe/Amsterdam
BEGIN:DAYLIGHT
DTSTART:20260329T030000
TZOFFSETFROM:+0100
TZOFFSETTO:+0200
TZNAME:CEST
END:DAYLIGHT
END:VTIMEZONE
END:VCALENDAR