BEGIN:VCALENDAR
VERSION:2.0
PRODID:-//wp-events-plugin.com//7.2.3.1//EN
TZID:Europe/Amsterdam
X-WR-TIMEZONE:Europe/Amsterdam
BEGIN:VEVENT
UID:189@xxter.com
DTSTART;TZID=Europe/Amsterdam:20260521T100000
DTEND;TZID=Europe/Amsterdam:20260521T113000
DTSTAMP:20260422T104806Z
URL:https://www.xxter.com/cursussen/xxter-basis-webinar-21-may-2026/
SUMMARY:xxter Basic Webinar 21 May 2026
DESCRIPTION:The xxter webinar covers the basics you need to start controlli
 ng your home or building with xxter. It is intended for professional KNX i
 nstallers\, but home automation enthusiasts are welcome as well.
END:VEVENT
BEGIN:VTIMEZONE
TZID:Europe/Amsterdam
X-LIC-LOCATION:Europe/Amsterdam
BEGIN:DAYLIGHT
DTSTART:20260329T030000
TZOFFSETFROM:+0100
TZOFFSETTO:+0200
TZNAME:CEST
END:DAYLIGHT
END:VTIMEZONE
END:VCALENDAR