BEGIN:VCALENDAR
VERSION:2.0
PRODID:-//wp-events-plugin.com//7.2.3.1//EN
TZID:Europe/Amsterdam
X-WR-TIMEZONE:Europe/Amsterdam
BEGIN:VEVENT
UID:184@xxter.com
DTSTART;TZID=Europe/Amsterdam:20260528T100000
DTEND;TZID=Europe/Amsterdam:20260528T110000
DTSTAMP:20260422T105255Z
URL:https://www.xxter.com/cursussen/xxter-pairot-webinar-28-may-2026/
SUMMARY:Pairot Basic Webinar 28 May 2026
DESCRIPTION:The Pairot webinar covers the basic configuration and practical
  use of Pairot in KNX installations. It is intended for professional KNX i
 nstallers. Home automation enthusiasts are also welcome.
END:VEVENT
BEGIN:VTIMEZONE
TZID:Europe/Amsterdam
X-LIC-LOCATION:Europe/Amsterdam
BEGIN:DAYLIGHT
DTSTART:20260329T030000
TZOFFSETFROM:+0100
TZOFFSETTO:+0200
TZNAME:CEST
END:DAYLIGHT
END:VTIMEZONE
END:VCALENDAR