BEGIN:VCALENDAR
VERSION:2.0
PRODID:-//wp-events-plugin.com//7.2.3.1//EN
TZID:Europe/Amsterdam
X-WR-TIMEZONE:Europe/Amsterdam
BEGIN:VEVENT
UID:49@xxter.com
DTSTART;TZID=Europe/Amsterdam:20190925T090000
DTEND;TZID=Europe/Amsterdam:20190925T160000
DTSTAMP:20190911T134517Z
URL:https://www.xxter.com/cursussen/xxter-pairot-basis-training-september-
 2019/
SUMMARY:xxter - Pairot basis training september 2019
DESCRIPTION:Klik hier voor meer informatie over de training.
LOCATION:Burgmans & Alewijns\, Burgmans-Alewijns Stokskesweg 25A\, Bergeijk
 \, Pays-Bas
GEO:51.317885;5.341076299999941
X-APPLE-STRUCTURED-LOCATION;VALUE=URI;X-ADDRESS=Burgmans-Alewijns Stokskesw
 eg 25A\, Bergeijk\, Pays-Bas;X-APPLE-RADIUS=100;X-TITLE=Burgmans & Alewijn
 s:geo:51.317885,5.341076299999941
END:VEVENT
BEGIN:VTIMEZONE
TZID:Europe/Amsterdam
X-LIC-LOCATION:Europe/Amsterdam
BEGIN:DAYLIGHT
DTSTART:20190331T030000
TZOFFSETFROM:+0100
TZOFFSETTO:+0200
TZNAME:CEST
END:DAYLIGHT
END:VTIMEZONE
END:VCALENDAR