BEGIN:VCALENDAR
VERSION:2.0
PRODID:-//wp-events-plugin.com//7.2.3.1//EN
TZID:Europe/Amsterdam
X-WR-TIMEZONE:Europe/Amsterdam
BEGIN:VEVENT
UID:107@xxter.com
DTSTART;TZID=Europe/Amsterdam:20220414T100000
DTEND;TZID=Europe/Amsterdam:20220414T120000
DTSTAMP:20220318T114123Z
URL:https://www.xxter.com/cursussen/xxter-pairot-webinar-14-april-2022/
SUMMARY:Xxter Pairot Webinar 14 april 2022
DESCRIPTION:Het XXTER - Pairot basis Webinar kan worden gevolgd om te leren
  hoe men start met het visualisatie pakket van xxter en de stembesturing v
 an Pairot. Het webinar is bedoeld voor professionele KNX installateurs. Do
 motica enthousiastelingen zijn welkom.
END:VEVENT
BEGIN:VTIMEZONE
TZID:Europe/Amsterdam
X-LIC-LOCATION:Europe/Amsterdam
BEGIN:DAYLIGHT
DTSTART:20220327T030000
TZOFFSETFROM:+0100
TZOFFSETTO:+0200
TZNAME:CEST
END:DAYLIGHT
END:VTIMEZONE
END:VCALENDAR