BEGIN:VCALENDAR
VERSION:2.0
PRODID:-//wp-events-plugin.com//7.2.3.1//EN
TZID:Europe/Amsterdam
X-WR-TIMEZONE:Europe/Amsterdam
BEGIN:VEVENT
UID:101@xxter.com
DTSTART;TZID=Europe/Amsterdam:20220113T100000
DTEND;TZID=Europe/Amsterdam:20220113T120000
DTSTAMP:20211126T145806Z
URL:https://www.xxter.com/cursussen/xxter-pairot-webinar-13-januari-2022/
SUMMARY:Xxter Pairot Webinar 13 januari 2022
DESCRIPTION:Het XXTER - Pairot basis Webinar kan worden gevolgd om te leren
  hoe men start met het visualisatie pakket van xxter en de stembesturing v
 an Pairot. Het webinar is bedoeld voor professionele KNX installateurs. Do
 motica enthousiastelingen zijn welkom.
END:VEVENT
BEGIN:VTIMEZONE
TZID:Europe/Amsterdam
X-LIC-LOCATION:Europe/Amsterdam
BEGIN:STANDARD
DTSTART:20211031T020000
TZOFFSETFROM:+0200
TZOFFSETTO:+0100
TZNAME:CET
END:STANDARD
END:VTIMEZONE
END:VCALENDAR