BEGIN:VCALENDAR
VERSION:2.0
PRODID:-//wp-events-plugin.com//7.2.3.1//EN
TZID:Europe/Amsterdam
X-WR-TIMEZONE:Europe/Amsterdam
BEGIN:VEVENT
UID:46@xxter.com
DTSTART;TZID=Europe/Amsterdam:20181119T090000
DTEND;TZID=Europe/Amsterdam:20181130T160000
DTSTAMP:20181017T090120Z
URL:https://www.xxter.com/cursussen/knx-basis-opleiding-november-2018/
SUMMARY:KNX basis opleiding november 2018
DESCRIPTION:Klik hier voor meer informatie over de training.
LOCATION:Home concept\, \, 
X-APPLE-STRUCTURED-LOCATION;VALUE=URI;X-ADDRESS=\, ;X-APPLE-RADIUS=100;X-TI
 TLE=Home concept:geo:0,0
END:VEVENT
BEGIN:VTIMEZONE
TZID:Europe/Amsterdam
X-LIC-LOCATION:Europe/Amsterdam
BEGIN:STANDARD
DTSTART:20181028T020000
TZOFFSETFROM:+0200
TZOFFSETTO:+0100
TZNAME:CET
END:STANDARD
END:VTIMEZONE
END:VCALENDAR